BEGIN:VCALENDAR
VERSION:2.0
PRODID:-//The Mediation and Arbitration Center Mauritius - ECPv6.15.19//NONSGML v1.0//EN
CALSCALE:GREGORIAN
METHOD:PUBLISH
X-ORIGINAL-URL:https://marc.mu
X-WR-CALDESC:Events for The Mediation and Arbitration Center Mauritius
REFRESH-INTERVAL;VALUE=DURATION:PT1H
X-Robots-Tag:noindex
X-PUBLISHED-TTL:PT1H
BEGIN:VTIMEZONE
TZID:Indian/Mauritius
BEGIN:STANDARD
TZOFFSETFROM:+0400
TZOFFSETTO:+0400
TZNAME:+04
DTSTART:20220101T000000
END:STANDARD
END:VTIMEZONE
BEGIN:VEVENT
DTSTART;TZID=Indian/Mauritius:20251114T083000
DTEND;TZID=Indian/Mauritius:20251119T183000
DTSTAMP:20260423T215801
CREATED:20250826T055212Z
LAST-MODIFIED:20250826T125639Z
UID:4637-1763109000-1763577000@marc.mu
SUMMARY:International Accredited Professional Mediator Training Program
DESCRIPTION:INTERNATIONAL TRADE & INVESTMENT URGENTLY NEEDS MORE MEDIATORS \nMediation is a well-designed and highly effective professional dispute resolution process. It encompasses a comprehensive structure of frameworks\, skills\, and procedures. Recognized globally as the preferred method of resolving disputes\, mediation has gained even more prominence with the approval of the Singapore Mediation Convention by the United Nations in 2018. This convention has significantly bolstered the use of mediation in cross-border trades\, transactions. \nClick here to access the E-book with full details about the training. \nClick here to register for the upcoming mediator training. \n 
URL:https://marc.mu/events-training/international-accredited-professional-mediator-training-program/
LOCATION:2nd Floor\, Anglo-Mauritius House\,  6\, Adolphe de Plevitz Street\,  Port Louis\, Mauritius
CATEGORIES:Course
ATTACH;FMTTYPE=image/jpeg:https://marc.mu/wp-content/uploads/2025/08/MARC-E-Book-21.08.25.jpg
END:VEVENT
BEGIN:VEVENT
DTSTART;TZID=Indian/Mauritius:20240208T000000
DTEND;TZID=Indian/Mauritius:20240208T000000
DTSTAMP:20260423T215801
CREATED:20231220T060025Z
LAST-MODIFIED:20240117T125131Z
UID:3746-1707350400-1707350400@marc.mu
SUMMARY:Alternative Dispute Resolution Symposium 2024
DESCRIPTION:Embark on a journey of insightful discussions at the IORA Symposium Alternative Dispute Resolution (ADR) Conference 2024. This event\, hosted by the IORA Core Group\, will delve into the intricacies of alternative dispute resolution mechanisms within the IORA region. \nExpert Insights: Mr. Madhvendra Singh\, commissioned for the Comparative Study report\, will explore core findings about dispute resolution mechanisms in Mauritius\, South Africa\, Australia\, India\, and Singapore. \nSpotlight on Trade: Focusing on Maritime Trade and Foreign Investment\, gain insights crucial to the establishment of the IORA Dispute Resolution Centre Project. \nDiverse Panel Discussions: Delve into comprehensive explorations of mediation and arbitration matters in the Indian Ocean Region. \nBecome a key partner in fostering innovation and promoting ADR tools across the IORA region by sponsoring the symposium. \nPlease click here to access the Sponsorship Brochure
URL:https://marc.mu/events-training/alternative-dispute-resolution-symposium-2024/
LOCATION:Labourdonnais Waterfront Hotel\, Labourdonnais Waterfront Hotel\, Port Louis.\, Port Louis.\, 11307\, Mauritius
CATEGORIES:Course
ATTACH;FMTTYPE=image/jpeg:https://marc.mu/wp-content/uploads/2023/12/Symposium-Proposal-3-approved-06-1.jpg
ORGANIZER;CN="MARC":MAILTO:secretariat@marc.mu
END:VEVENT
BEGIN:VEVENT
DTSTART;TZID=Indian/Mauritius:20231204T090000
DTEND;TZID=Indian/Mauritius:20231209T140000
DTSTAMP:20260423T215801
CREATED:20231027T064849Z
LAST-MODIFIED:20231218T071351Z
UID:3466-1701680400-1702130400@marc.mu
SUMMARY:Civil & Commercial Mediation Training Course
DESCRIPTION:[wpcdt-countdown id=”3681″] \n“The Mediation and Arbitration Centre (Mauritius) Ltd (“MARC”) has scheduled its second cohort of the “Civil & Commercial Mediation Training Course” which will be jointly organised with the the ADR/ODR International Limited (“ADR/ODR”). The Course will take place from the  04th of December 2023 to the 09th of December 2023. \nIn today’s dynamic business landscape\, disputes can arise unexpectedly and disrupt operations. By equipping yourself with advanced mediation skills through this course\, you gain a strategic advantage. Mediation offers a cost-effective and expeditious means of resolving commercial conflicts\, reducing the risk of protracted legal battles and associated expenses. Don’t miss this opportunity to elevate your skills and position yourself as a proficient economic operator in today’s competitive global market. \nThe Training fee is MUR 115\,000 for participants eligible for HRDC refund and MUR 85\,000 for participants not eligible for HRDC refund. The Training will be MQA Approved and HRDC Refundable. \nThe 6-day Course will be conducted in English and will equip participants with consolidated knowledge on dispute prevention\, dispute resolution and enforcement. Participants will also learn the conflict resolution process and the application of mediation skills in fostering effective communication among the parties in dispute with a view to resolving conflicts in a systematic and effective manner. The Course will also consist of multiple role-play sessions for participants to gain hands-on experience. The mediation role-play sessions will be coached by experienced mediators and renowned international mediation trainers. \nSuccessful completion of the course grants you the status of ‘ADR ODR International Accredited Civil/Commercial Mediator’ and inclusion in the MARC Internal Database of Mediators\, enabling you to offer your professional mediation services in Mauritius. The course is not only recognized by the Civil Mediation Council (CMC) in the UK but also holds international certification from the International Mediation Institute (IMI) and accreditation from the Singapore International Mediation Institute (SIMI). \nMediation skills are invaluable for negotiating settlements\, fostering amicable resolutions\, and reducing the time and costs associated with protracted legal proceedings. Moreover\, the international recognition and accreditation provided by this training elevate your professional profile\, enhancing your marketability and positioning you as a versatile legal practitioner. \nPlease click here to access the E- book with more details about the Training. \nShould you be interested to register\, kindly contact secretariat@marc.mu. Alternatively\, you can call on: +230 203 4830 for more information”
URL:https://marc.mu/events-training/civil-commercial-mediation-training-course/
CATEGORIES:Course
ATTACH;FMTTYPE=image/png:https://marc.mu/wp-content/uploads/2023/10/save-the-date.png
ORGANIZER;CN="MARC":MAILTO:secretariat@marc.mu
END:VEVENT
BEGIN:VEVENT
DTSTART;TZID=Indian/Mauritius:20230515T090000
DTEND;TZID=Indian/Mauritius:20230519T170000
DTSTAMP:20260423T215801
CREATED:20230529T064052Z
LAST-MODIFIED:20230529T064123Z
UID:2821-1684141200-1684515600@marc.mu
SUMMARY:Successful completion of MARC Professional International Mediator Training Course
DESCRIPTION:Successful completion of MARC Professional International Mediator Training Course The Mediation and Arbitration Centre (Mauritius) Ltd (“MARC”) has successfully launched its first Professional International Mediator Training Course at the Caudan Arts Centre\, Port Louis from the 15th May 2023 to the 19th May 2023. \nThe 50-hour\, 5-day Course has been conducted in English and has equipped participants with hands-on experience in Mediation by engaging in various interactive sessions\, practical exercises\, and insightful discussions facilitated by highly experienced trainers\, Prof. Dr Rajesh Sharma\, Prof. Dr. Francis Law and Dr.\nAlfred Chan. \nEnrolled participants were from diverse backgrounds namely Legal professionals\, Engineers\, Investment Adviser\, Transaction Analyst\, HR professionals\, Directors\, Quality\, System and Safety Manager and personnel of the Conciliation and Mediation of the Ministry of Labour\, Industrial Relations and Employment. \nOver the course of these five days\, attendees have delved into various aspects of mediation\, exploring techniques\, strategies\, and ethical considerations that play a pivotal role in the mediation process. \nkey highlights of our Mediation Training Program: CLICK HERE
URL:https://marc.mu/events-training/successful-completion-of-marc-professional-international-mediator-training-course/
LOCATION:Port Louis\, Mauritius\, Caudan Arts Centre
CATEGORIES:Course
ATTACH;FMTTYPE=image/png:https://marc.mu/wp-content/uploads/2023/03/marc-professional.png
END:VEVENT
BEGIN:VEVENT
DTSTART;TZID=Indian/Mauritius:20230515T090000
DTEND;TZID=Indian/Mauritius:20230519T170000
DTSTAMP:20260423T215801
CREATED:20230313T090400Z
LAST-MODIFIED:20230329T060125Z
UID:2684-1684141200-1684515600@marc.mu
SUMMARY:Professional International Mediator Training Course
DESCRIPTION:The Mediation and Arbitration Centre (Mauritius) Ltd (“MARC”) is pleased to announce the launch of its “Professional International Mediator Training Certification Course” which will be jointly organised with the Academy of International Dispute Resolution & Professional Negotiation (“AIDRN”) and the International Dispute Resolution and Risk Management Institute (“IDRRMI”). The course will take place from the 15th of May 2023 to the 19th of May 2023. \nThe Course fee is MUR 130\, 000 and will be MQA Approved and HRDC Refundable. \nMediation is a proven tool to help people move past their tensions and achieve a mutually agreed binding settlement. This course will combine the art and science of mediation through highly interactive\, skill-based courses in negotiation and mediation. This course is tailored to suit all levels of professional\, from senior executives\, business leaders\, HR and in-house counsel\, to law practitioners. Whether you are looking to start a new and exciting career in alternative dispute resolution\, or simply wishing to develop your existing skill set\, our professional course will equip you with all the necessary skills needed to practice as a successful Civil/Commercial Mediator. \nThe 50-hour\, 5-day Course will be conducted in English and will equip participants with consolidated knowledge on dispute prevention\, dispute resolution and enforcement. Meanwhile\, participants will also learn the conflict resolution process and the application of mediation skills in fostering effective communication among the parties in dispute with a view to resolving conflicts in a systematic and effective manner. The course will also consist of multiple role-play sessions for participants to gain hands-on experience. The mediation role-play sessions will be coached by experienced mediators and renowned international mediation trainers. \nSuccessful completion of the programme will allow you to apply to be added to MARC’s Internal Database of Mediators and will also enable you to apply to the Stage II Qualifying examination for International Accredited Professional Mediators (IAPM) administered by IDRRMI. The IAPM certification is recognised in Hong Kong\, China\, Asia Pacific and worldwide. \nTo download the prospectus\, please click here
URL:https://marc.mu/events-training/professional-international-mediator-training-course/
LOCATION:Port Louis\, Mauritius\, Caudan Arts Centre
CATEGORIES:Course
ATTACH;FMTTYPE=image/jpeg:https://marc.mu/wp-content/uploads/2023/03/Banner-Events-scaled.jpg
END:VEVENT
END:VCALENDAR